BEGIN:VCALENDAR
VERSION:2.0
PRODID:-// - ECPv6.15.13.1//NONSGML v1.0//EN
CALSCALE:GREGORIAN
METHOD:PUBLISH
X-ORIGINAL-URL:https://el-de-haus-verein.de
X-WR-CALDESC:Veranstaltungen für 
REFRESH-INTERVAL;VALUE=DURATION:PT1H
X-Robots-Tag:noindex
X-PUBLISHED-TTL:PT1H
BEGIN:VTIMEZONE
TZID:Europe/Berlin
BEGIN:DAYLIGHT
TZOFFSETFROM:+0100
TZOFFSETTO:+0200
TZNAME:CEST
DTSTART:20230326T010000
END:DAYLIGHT
BEGIN:STANDARD
TZOFFSETFROM:+0200
TZOFFSETTO:+0100
TZNAME:CET
DTSTART:20231029T010000
END:STANDARD
BEGIN:DAYLIGHT
TZOFFSETFROM:+0100
TZOFFSETTO:+0200
TZNAME:CEST
DTSTART:20240331T010000
END:DAYLIGHT
BEGIN:STANDARD
TZOFFSETFROM:+0200
TZOFFSETTO:+0100
TZNAME:CET
DTSTART:20241027T010000
END:STANDARD
BEGIN:DAYLIGHT
TZOFFSETFROM:+0100
TZOFFSETTO:+0200
TZNAME:CEST
DTSTART:20250330T010000
END:DAYLIGHT
BEGIN:STANDARD
TZOFFSETFROM:+0200
TZOFFSETTO:+0100
TZNAME:CET
DTSTART:20251026T010000
END:STANDARD
END:VTIMEZONE
BEGIN:VEVENT
DTSTART;TZID=Europe/Berlin:20241107T190000
DTEND;TZID=Europe/Berlin:20241107T201500
DTSTAMP:20260420T232253
CREATED:20241013T125533Z
LAST-MODIFIED:20241022T140120Z
UID:1000-1731006000-1731010500@el-de-haus-verein.de
SUMMARY:„Wir gedenken der Opfer von Holocaust und Judenhass. Wir stehen an der Seite unserer jüdischen Nachbar*innen!“
DESCRIPTION:Das Katholische Stadtdekanat Köln\, Katholikenausschuss und der Evangelische Kirchenverband Köln und Region rufen zu einem Schweigegang zum Jahrestag der Pogromnacht vor 86 Jahren (9. November 1938) auf. \nSchweigend möchten wir der Opfer von Krieg und Terror gedenken und ein starkes Zeichen der Anteilnahme und Verbundenheit für unsere jüdischen Nachbarinnen und Nachbarn setzen\, die von anhaltendem Antisemitismus betroffen sind. Wir wollen gemeinsam schweigen und verzichten auf Reden. Wir bitten darum\, keine Transparente und Fahnen mitzuführen. \nSie sind herzlich eingeladen mitzugehen. \nUnterstützer*innen der Veranstaltung.\nStart:  Donnerstag\, 7. November 2024\, 19.00 Uhr\, Jüdisches Museum\n(Kreuzung Obermarspforten/Unter Goldschmied) \nZiel: Synagoge an der Roonstraße 50\, Ende des Gangs gegen 20.15 Uhr
URL:https://el-de-haus-verein.de/event/wir-gedenken-der-opfer-von-holocaust-und-judenhass-wir-stehen-an-der-seite-unserer-juedischen-nachbarinnen/
LOCATION:Jüdisches Museum\, Obermarspforten / Unter Goldschmied\, Köln\, 50766
CATEGORIES:Rundgang
ORGANIZER;CN="Katholisches Stadtdekanat":MAILTO:stadtdekanat@katholisches.koeln
END:VEVENT
BEGIN:VEVENT
DTSTART;TZID=Europe/Berlin:20241110T160000
DTEND;TZID=Europe/Berlin:20241110T180000
DTSTAMP:20260420T232253
CREATED:20241017T130535Z
LAST-MODIFIED:20241017T130901Z
UID:1005-1731254400-1731261600@el-de-haus-verein.de
SUMMARY:Lichterzug mit anschließender Gedenkveranstaltung
DESCRIPTION:Gedenkveranstaltung anlässlich der Pogromnacht vom 9. November 1938\, der Ermordung der elf Zwangsarbeiter am 25. Oktober 1944 und der Ehrenfelder Edelweißpiraten und anderer Widerstandskämpfer am 10. November 1944. \nAm 10. November 2024 jährt sich zum 80. Mal der Tag\, an dem in der ehemaligen Hüttenstraße\, jetzt Bartholomäus-Schink-Straße\, 13 Menschen\, unter ihnen auch ehemalige Edelweißpiraten\, ohne Gerichtsurteil öffentlich vor Hunderten von Zuschauern durch den Strang exekutiert wurden. Vorher\, am 25. Oktober 1944\, ermordete die Gestapo am selben Ort 11 Zwangsarbeiter\, deren Tod nicht vergessen werden darf. \nLichterzug mit anschließender Gedenkveranstaltung für Sonntag\, 10. November 2024 um 16 Uhr: Treffpunkt ist der Bunker K101 in der Körnerstraße in Ehrenfeld\, neben dem früher die Synagoge stand\, die in der Pogromnacht vom 9. auf den 10. November 1938 geschändet wurde. \nBeginn der Gedenkveranstaltung vor dem Mahnmal Bartholomäus-Schink-Straße / Venloer Straße: ca. 17 Uhr.
URL:https://el-de-haus-verein.de/event/lichterzug-mit-anschliessender-gedenkveranstaltung/
LOCATION:Bunker K101 Körnerstraße\, Körnerstraße 101\, Köln Ehrenfeld\, 50823
CATEGORIES:Demonstration,Kundgebung
ATTACH;FMTTYPE=image/jpeg:https://el-de-haus-verein.de/wp-content/uploads/2024/10/Ehrenfeld.jpg
END:VEVENT
END:VCALENDAR