BEGIN:VCALENDAR
VERSION:2.0
PRODID:-// - ECPv6.15.13.1//NONSGML v1.0//EN
CALSCALE:GREGORIAN
METHOD:PUBLISH
X-ORIGINAL-URL:https://el-de-haus-verein.de
X-WR-CALDESC:Veranstaltungen für 
REFRESH-INTERVAL;VALUE=DURATION:PT1H
X-Robots-Tag:noindex
X-PUBLISHED-TTL:PT1H
BEGIN:VTIMEZONE
TZID:Europe/Berlin
BEGIN:DAYLIGHT
TZOFFSETFROM:+0100
TZOFFSETTO:+0200
TZNAME:CEST
DTSTART:20250330T010000
END:DAYLIGHT
BEGIN:STANDARD
TZOFFSETFROM:+0200
TZOFFSETTO:+0100
TZNAME:CET
DTSTART:20251026T010000
END:STANDARD
BEGIN:DAYLIGHT
TZOFFSETFROM:+0100
TZOFFSETTO:+0200
TZNAME:CEST
DTSTART:20260329T010000
END:DAYLIGHT
BEGIN:STANDARD
TZOFFSETFROM:+0200
TZOFFSETTO:+0100
TZNAME:CET
DTSTART:20261025T010000
END:STANDARD
BEGIN:DAYLIGHT
TZOFFSETFROM:+0100
TZOFFSETTO:+0200
TZNAME:CEST
DTSTART:20270328T010000
END:DAYLIGHT
BEGIN:STANDARD
TZOFFSETFROM:+0200
TZOFFSETTO:+0100
TZNAME:CET
DTSTART:20271031T010000
END:STANDARD
END:VTIMEZONE
BEGIN:VEVENT
DTSTART;TZID=Europe/Berlin:20260424T180000
DTEND;TZID=Europe/Berlin:20260424T193000
DTSTAMP:20260424T012722
CREATED:20260406T155125Z
LAST-MODIFIED:20260406T155125Z
UID:1433-1777053600-1777059000@el-de-haus-verein.de
SUMMARY:Umkämpfte Erinnerung
DESCRIPTION:Kölns langer Weg zu einer kritischen Auseinandersetzung mit dem Nationalsozialismus. Wie kam es dazu\, dass sich in Köln seit den 1970er Jahren Schritt für Schritt eine kritische Auseinandersetzung mit den NS-Verbrechen durchsetzte? Welche öffentlichen Debatten\, Konflikte und Widerstände prägten diesen Prozess? Im persönlich politischen Gespräch blicken der Publizist Martin Stankowski und die Historikerin Dr. Karola Fings anhand ausgewählter Fotografien\, Dokumente und Objekte zum EL DE Haus\, dem Messelager\, der Zwangsarbeit\, der Deportation der Sinti*zze und Rom*nja und weiterer Themen auf den Streit um die NS Vergangenheit in Köln von den 1970ern bis in die 2000er Jahre zurück. Im Mittelpunkt steht die entscheidende Rolle bürgerschaftlichen Engagements für die Entwicklung der Kölner Erinnerungskultur. \nModeration: Dr. Henning Borggräfe
URL:https://el-de-haus-verein.de/event/umkaempfte-erinnerung/
END:VEVENT
END:VCALENDAR