BEGIN:VCALENDAR
VERSION:2.0
PRODID:-// - ECPv6.15.13.1//NONSGML v1.0//EN
CALSCALE:GREGORIAN
METHOD:PUBLISH
X-ORIGINAL-URL:http://el-de-haus-verein.de
X-WR-CALDESC:Veranstaltungen für 
REFRESH-INTERVAL;VALUE=DURATION:PT1H
X-Robots-Tag:noindex
X-PUBLISHED-TTL:PT1H
BEGIN:VTIMEZONE
TZID:Europe/Berlin
BEGIN:DAYLIGHT
TZOFFSETFROM:+0100
TZOFFSETTO:+0200
TZNAME:CEST
DTSTART:20230326T010000
END:DAYLIGHT
BEGIN:STANDARD
TZOFFSETFROM:+0200
TZOFFSETTO:+0100
TZNAME:CET
DTSTART:20231029T010000
END:STANDARD
BEGIN:DAYLIGHT
TZOFFSETFROM:+0100
TZOFFSETTO:+0200
TZNAME:CEST
DTSTART:20240331T010000
END:DAYLIGHT
BEGIN:STANDARD
TZOFFSETFROM:+0200
TZOFFSETTO:+0100
TZNAME:CET
DTSTART:20241027T010000
END:STANDARD
BEGIN:DAYLIGHT
TZOFFSETFROM:+0100
TZOFFSETTO:+0200
TZNAME:CEST
DTSTART:20250330T010000
END:DAYLIGHT
BEGIN:STANDARD
TZOFFSETFROM:+0200
TZOFFSETTO:+0100
TZNAME:CET
DTSTART:20251026T010000
END:STANDARD
END:VTIMEZONE
BEGIN:VEVENT
DTSTART;TZID=Europe/Berlin:20241211T183000
DTEND;TZID=Europe/Berlin:20241211T203000
DTSTAMP:20260420T012524
CREATED:20241120T170510Z
LAST-MODIFIED:20241120T173448Z
UID:1051-1733941800-1733949000@el-de-haus-verein.de
SUMMARY:Brüche und Fronten – Der Nahostkrieg und der Antisemitismus in Deutschland
DESCRIPTION:Vor 600 Jahren wurden Juden durch einen Ratsbeschluss aus Köln vertrieben – ein historisches Ereignis\, das als Ausgangspunkt für das diesjährige Forum 321 dient. Der Impulsvortrag greift dieses Thema auf\, während die Podiums-diskussion den aktuellen Nahostkonflikt und dessen Auswirkungen auf den gesellschaftlichen Diskurs in Deutschland in den Mittelpunkt rückt. \nDabei liegt der Fokus besonders auf Kunst\, Kultur und Wissenschaft. Die Debatten führen zu tiefen Spaltungen in der Gesellschaft\, da unterschiedliche Lager Position beziehen. Gleichzeitig kommt der ohnehin schon vorhandene Antisemitismus deutlicher zum Vorschein. \nThemen wie Antisemitismusklauseln im Kulturbereich\, Boykottaufrufe gegen jüdische Institutionen\, die Bewegung „Strike Germany“ und öffentliche Pro-teste gegen die israelische Offensive in Gaza verschärfen die Spaltung in der deutschen Gesellschaft. Diese komplexen Fragestellungen sollen in einer hochkarätig besetzten Diskussionsrunde behandelt werden. \nBEGRÜßUNG \nDr. Marcus Dekiert\, Direktor Wallraf-Richartz-Museum \nGRUßWORT \nBettina Levy\, Vorstand Synagogen-Gemeinde Köln \nEINFÜHRUNG \nProf. Dr. Jürgen Wilhelm\, Vorsitzender Kölnische Gesellschaft für Christlich-Jüdische Zusammenarbeit \nIMPULSVORTRAG zur Ausweisung von 1424 \nPD Dr. Thomas Otten\, Direktor MiQua. LVR-Jüdisches Museum im Archäologischen Quartier Köln \nPODIUM BRÜCHE UND FRONTEN – DER NAHOSTKONFLIKT UND DER ANTISEMITISMUS IN DEUTSCHLAND \nProf. Dr. Omri Boehm\, Philosoph \nPD Dr. Navid Kermani\, Schriftsteller und Orientalist \nProf. Dr. Mirjam Wenzel\, Literaturwissenschaftlerin und Direktorin Jüdisches Museum Frankfurt \nModeration: Anja Reinhardt\, DLF \n  \nMUSIKALISCHE UNTERMALUNG: SISTANAGILA \nUmrahmt wird die Veranstaltung von Sistanagila. Das Berliner Ensemble mit israelischen und iranischen Musikern präsentiert eine faszinierende Fusion aus Klezmer\, Klassik\, sephardischer und persischer Musik\, gewürzt mit Percussion-Elementen des Ausnahmekünstlers Udi Shlomo. „Sistan“ heißt eine iranische Provinz\, „Hava Nagila“ ein hebräisches Lied. Zusammen ergibt es „Sistanagila“\, die über die Musik Botschaften des Miteinanders vermitteln\, mit Hilfe von Klängen Brücken bauen zwischen Kulturen\, die sich scheinbar unversöhnlich gegenüberstehen\, in Wirklichkeit aber stark miteinander verbunden sind.
URL:http://el-de-haus-verein.de/event/brueche-und-fronten-der-nahostkrieg-und-der-antisemitismus-in-deutschland/
LOCATION:Stiftersaal des Wallraf-Richartz-Museum & Fondation Corboud\, Obenmarspforten 40\, Köln-Innenstadt\, 50667
CATEGORIES:Gespräch,Musik,Vortrag
ORGANIZER;CN="K%C3%B6lnische Gesellschaft f%C3%BCr Christlich-J%C3%BCdische Zusammenabeit e.V.":MAILTO:kontakt@koelnische-gesellschaft.de
END:VEVENT
END:VCALENDAR