BEGIN:VCALENDAR
VERSION:2.0
PRODID:-// - ECPv6.15.13.1//NONSGML v1.0//EN
CALSCALE:GREGORIAN
METHOD:PUBLISH
X-ORIGINAL-URL:http://el-de-haus-verein.de
X-WR-CALDESC:Veranstaltungen für 
REFRESH-INTERVAL;VALUE=DURATION:PT1H
X-Robots-Tag:noindex
X-PUBLISHED-TTL:PT1H
BEGIN:VTIMEZONE
TZID:Europe/Berlin
BEGIN:DAYLIGHT
TZOFFSETFROM:+0100
TZOFFSETTO:+0200
TZNAME:CEST
DTSTART:20220327T010000
END:DAYLIGHT
BEGIN:STANDARD
TZOFFSETFROM:+0200
TZOFFSETTO:+0100
TZNAME:CET
DTSTART:20221030T010000
END:STANDARD
BEGIN:DAYLIGHT
TZOFFSETFROM:+0100
TZOFFSETTO:+0200
TZNAME:CEST
DTSTART:20230326T010000
END:DAYLIGHT
BEGIN:STANDARD
TZOFFSETFROM:+0200
TZOFFSETTO:+0100
TZNAME:CET
DTSTART:20231029T010000
END:STANDARD
BEGIN:DAYLIGHT
TZOFFSETFROM:+0100
TZOFFSETTO:+0200
TZNAME:CEST
DTSTART:20240331T010000
END:DAYLIGHT
BEGIN:STANDARD
TZOFFSETFROM:+0200
TZOFFSETTO:+0100
TZNAME:CET
DTSTART:20241027T010000
END:STANDARD
END:VTIMEZONE
BEGIN:VEVENT
DTSTART;TZID=Europe/Berlin:20230403T100000
DTEND;TZID=Europe/Berlin:20230710T113000
DTSTAMP:20260419T220233
CREATED:20230426T100457Z
LAST-MODIFIED:20230503T213123Z
UID:306-1680516000-1688988600@el-de-haus-verein.de
SUMMARY:Schreiben gegen den Faschismus. Die nationalsozialistischen „Bücherverbrennungen“ und der Widerstand aus dem Exil
DESCRIPTION:Vor 90 Jahren endete die erste deutsche Demokratie: Am 30. Januar 1933 wurde Adolf Hitler zum Reichskanzler ernannt. Binnen weniger Monate wurden die Errichtung einer völkischen Führerdiktatur eingeleitet und Bürgerrechte und demokratische Prinzipien ausgehebelt. Schon Anfang April hatte die Deutsche Studentenschaft ihre Organe aufgefordert\, sich an der vierwöchigen „Aktion wider den undeutschen Geist“ zu beteiligen\, an deren Ende in den meisten Universitätsstädten öffentliche Bücherverbrennungen stattfanden. Was für manch einen Startpunkt für eine Karriere im Nationalsozialismus war\, bedeutete für viele Autor*innen\, Sozialwissenschaftler*innen und Künstler*innen das Ende ihres Schaffens. Die meisten gingen in die Emigration\, viele wurden auch hier Jahre später von der nationalsozialistischen Verfolgung eingeholt. \nDiese jeweils montags stattindende Veranstaltung ist für Studierende und Zivilgesellschaft. \nTeilnahme auf Anfrage.
URL:http://el-de-haus-verein.de/event/schreiben-gegen-den-faschismus-die-nationalsozialistischen-buecherverbrennungen-und-der-widerstand-aus-dem-exil/
LOCATION:Universität zu Köln\, Humanwissenschaftliche Fakultät\, 216 Seminarraum S131\, Gronewaldstraße 2\, Köln\, 50931
CATEGORIES:Vorlesung,Vortrag
ORGANIZER;CN="Dr. Anne Klein - Lehrstuhl Politikwissenschaft%2C politische Bildung%2C Bildungspolitik":MAILTO:anne.klein@uni-koeln.de
END:VEVENT
BEGIN:VEVENT
DTSTART;VALUE=DATE:20230510
DTEND;VALUE=DATE:20230518
DTSTAMP:20260419T220233
CREATED:20230426T141856Z
LAST-MODIFIED:20230426T142025Z
UID:399-1683676800-1684367999@el-de-haus-verein.de
SUMMARY:„Aktion wider den undeutschen Geist“ - Ausstellung in Bibliotheksvitrinen des NS-DOK
DESCRIPTION:Im Rahmen der Aktionswoche „verbrannt & verbannt“ in Erinnerung an die Bücherverbrennungen in Deutschland vor 90 Jahren zeigt das NS-DOK in seiner Bibliotheksvitrine eine kleine Ausstellung zum Schicksal verschiedener Autor*innen\, die auf unterschiedliche Weise von der Verfolgung durch die Nationalsozialist*innen betroffen waren. \n 
URL:http://el-de-haus-verein.de/event/aktion-wider-den-undeutschen-geist-ausstellung-in-bibliotheksvitrine-des-ns-dok/
LOCATION:NS-Dokumentationszentrum\, Appellhofplatz 23-25\, Köln\, 50667
CATEGORIES:Ausstellung
ORGANIZER;CN="NS-DOK":MAILTO:bibliothek.nsdok@stadt-koeln.de
END:VEVENT
BEGIN:VEVENT
DTSTART;VALUE=DATE:20230511
DTEND;VALUE=DATE:20230731
DTSTAMP:20260419T220233
CREATED:20230314T133219Z
LAST-MODIFIED:20230314T135005Z
UID:115-1683763200-1690761599@el-de-haus-verein.de
SUMMARY:Ausstellung: Wie konnte es dazu kommen?
DESCRIPTION:Wie kam es zu der „Informations- und Erziehungsdiktatur“ (Helmut Schmidt) der Jahre 1933 bis 1945?\nAnlaß dazu bietet die Wiederentdeckung von Teilen der 1919 von der Studentenschaft angelegten Studentenbücherei\, 1927 das Studentenwerk übergegangen und und von diesem 1940 an die Universitäts- und Stadtbibliothek übertragen. Primär aus eser sollten die zu verbrennenden Werke entnommen werden. Verbrannt wurden am 17. Mai daneben vermutlich auch in Kölner Leihbibliotheken beschlagnahmte und aus den Kölner Volksbüchereien ausgesonderte Titel\, die auf den von willfährigen BIbliothekaren ausgearbeiteten ‚Schwarzen Listen‘ standen. \nDie Ausstellung richtet den Blick aber nicht nur auf die Ereignisse im Mai 1933\, sondern auch auf die Jahre von 1919 bis1933: Neben Modernisierungstendenzen in Stadt und Universität blieben parallel ältere\,rückwärtsgewandte Einstellungen lebendig\, die sich unter den politisch wie wirtschaftlich schwierigen Bedingungen infolge des Versailler Friedensvertrags (Besetzung Kölns bis 1926\, Hyperinflation und Ruhrbesetzung 1923\, Wirtschaftskrise 1929-1931) radikalisierten. Die Nationalsozialisten konnten letztlich auf Faktoren aufbauen\, die sie bis 1933 nicht beeinflussen konnten\, die aber einen Teil der Lehrenden und der Studierenden die von den Nazis so bezeichnete „Machtergreifung“ begrüßen ließen. \nAnhand von Gegenständen\, Unterlagen und Büchern aus dem Historischen Archiv der Universität und der Universitäts- und Stadtbibliothek sollen diese Entwicklungen aufgezeigt und die Abläufe der Bücherverbrennung am 17. Mai 1933 genauer als bisher rekonstruiert werden\, die die von der Weimarer Verfassung garantierten Grundrechte der Meinungs-\, Kunst- und Wissenschaftsfreiheit negierte.
URL:http://el-de-haus-verein.de/event/wie-konnte-es-dazu-kommen/
LOCATION:Foyer der Universität- und Stadtbibliothek\, Universitätsstr. 33\, Köln\, 50931
CATEGORIES:Ausstellung
END:VEVENT
BEGIN:VEVENT
DTSTART;TZID=Europe/Berlin:20230514T110000
DTEND;TZID=Europe/Berlin:20230514T123000
DTSTAMP:20260419T220233
CREATED:20230412T085751Z
LAST-MODIFIED:20230412T090136Z
UID:247-1684062000-1684067400@el-de-haus-verein.de
SUMMARY:"Jetzt riecht es an vielen Ecken und Enden nach Gift\, Gewalt und bösem Lauern"
DESCRIPTION:Ludwig Meidner: Maler\, Zeichner\, Dichter und Kunstlehrer am jüdischen Gymnasium Jawne in Köln.Die Diffamierung seiner Kunst und Literatur\, die Verfolgung seiner Person. \nBebilderter Vortrag von Dr. Katja Lambert.
URL:http://el-de-haus-verein.de/event/jetzt-riecht-es-an-vielen-ecken-und-enden-nach-gift-gewalt-und-boesem-lauern/
LOCATION:Lern- und Gedenkort Jawne\, Erich-Klibansky-Platz\, Köln\, 50667
ORGANIZER;CN="Lern- und Gedenkort Jawne":MAILTO:stellmacher@jawne.de
END:VEVENT
BEGIN:VEVENT
DTSTART;TZID=Europe/Berlin:20230514T150000
DTEND;TZID=Europe/Berlin:20230514T170000
DTSTAMP:20260419T220233
CREATED:20230412T090805Z
LAST-MODIFIED:20230415T104555Z
UID:251-1684076400-1684083600@el-de-haus-verein.de
SUMMARY:Vom Retten und Vernichten von Schriften und Menschen
DESCRIPTION:Kinder des Widerstandes aus Köln berichten über das Schicksal von Büchern und die Rolle des Papiers im Widerstand 1933-1945 – und danach. \nZu Gast ist Henk Mreijen\, Vorsitzender der Kinder des Widerstandes aus den Niederlanden. \nEine Veranstaltung für Schüler ab der 9. Klasse\, Erwachsene und Angehörige von Verfolgten.
URL:http://el-de-haus-verein.de/event/vom-retten-und-vernichten-von-schriften-und-menschen/
LOCATION:NS Dokumentationszentrum – EL-DE-Haus\, Appellhofplatz 23-25\, Köln\, 50667
CATEGORIES:Diskussion,Lesung,Vortrag
ORGANIZER;CN="Kinder des Widerstandes e.V.":MAILTO:klara.tuchscherer@gmail.com
END:VEVENT
BEGIN:VEVENT
DTSTART;TZID=Europe/Berlin:20230514T150000
DTEND;TZID=Europe/Berlin:20230514T170000
DTSTAMP:20260419T220233
CREATED:20230508T140417Z
LAST-MODIFIED:20230508T140514Z
UID:482-1684076400-1684083600@el-de-haus-verein.de
SUMMARY:...de Fahn erus!
DESCRIPTION:Köln-Nippes im Nationalsozialismus\nAuch in Städten wie Köln\, fand der Nationalsozialismus in allen seinen Ausprägungen statt\, wie in anderen Städten auch. Vom Blockwart bis zum Widerständler\, Kriegsschäden\, Kriegsgefangenenlager und Deportation. Walter Schulz und Harald Niemann besuchen auf dem Rundgang die wichtigsten Orte und ordnen die Ereignisse der damaligen Zeit ein. \n9 €\, ermäßigt: 7 €\, Betrag zugunsten des Archivs für Stadtteilgeschichte Köln-Nippes e. V
URL:http://el-de-haus-verein.de/event/de-fahn-erus/
LOCATION:„Golde Kappes“ U-Bahn Florastraße\, Neusser Str. 295\, Köln-Nippes\, 50733
CATEGORIES:Rundgang
END:VEVENT
BEGIN:VEVENT
DTSTART;TZID=Europe/Berlin:20230514T150000
DTEND;TZID=Europe/Berlin:20230514T173000
DTSTAMP:20260419T220233
CREATED:20230406T104239Z
LAST-MODIFIED:20230504T100255Z
UID:219-1684076400-1684085400@el-de-haus-verein.de
SUMMARY:„Hab keine Angst\, erzähl alles! Das Attentat von Halle und die Stimmen der Überlebenden“
DESCRIPTION:Lesung mit der Schriftstellerin Esther Dischereit und Rechtsanwalt Mark Lupschitz\nAm 9. Oktober 2019 wollte ein Neonazi einen Massenmord an Jüdinnen und Juden zu verüben und versuchte in die Synagoge von Halle einzudringen\, um die dort zu Jom Kippur versammelten Gläubigen zu ermorden. Nachdem ihm dies misslang\, erschoss er die Passantin Jana L. Er zog weiter zum nahegelegenen „Kiez“-Döner-Imbiß und ermordete Kevin Schwarze. Weitere Menschen in Wiedersdorf wurden schwer verletzt.\nDie Lyrikerin und Essayistin Esther Dischereit hat in ihrem Buch »Hab keine Angst\, erzähl alles! Das Attentat von Halle und die Stimmen der Überlebenden« Dokumente rund um den späteren Gerichtsprozess in Magdeburg gesammelt: Statements\, Interviews\, Wortmeldungen\, Gutachten. Zusammen mit ihr und Rechtsanwalt Mark Lupschitz\, der zahlreiche Überlebende des Attentats vor Gericht vertrat\, wollen wir an diesem Nachmittag an die Folgen des Mordanschlags erinnern.
URL:http://el-de-haus-verein.de/event/hab-keine-angst-erzaehl-alles-das-attentat-von-halle-und-die-stimmen-der-ueberlebenden/
LOCATION:„Raum für Alle“\, Genovevastr. 94\, Köln-Mülheim\, 51063
CATEGORIES:Gespräch,Lesung
ATTACH;FMTTYPE=image/jpeg:http://el-de-haus-verein.de/wp-content/uploads/2023/04/202304_Flyer_Eroeffnung_Raum_fuer_alle1-002.jpg
ORGANIZER;CN="Initiative Herkesin Meydani - Platz f%C3%BCr Alle":MAILTO:platzfueralle@posteo.de
END:VEVENT
BEGIN:VEVENT
DTSTART;TZID=Europe/Berlin:20230514T170000
DTEND;TZID=Europe/Berlin:20230514T190000
DTSTAMP:20260419T220233
CREATED:20230413T101735Z
LAST-MODIFIED:20230413T102755Z
UID:273-1684083600-1684090800@el-de-haus-verein.de
SUMMARY:Texte aus der Asche
DESCRIPTION:Lesung im ehemaligen Reiterstall der Hitlerjugend im Petershof\nIm Petershof in Köln-Müngersdorf war von 1936 bis 1942 eine Reitergruppe der Hitlerjugend untergebracht. Heute soll in dem alten Vierkanthof ein genossenschaftliches Wohn- und Kulturprojekt entstehen. Zum Gedenken an die Bücherverbrennungen von 1933\, für die insbesondere auch die Hitlerjugend mobilisiert wurde\, werden wir zur Tätigkeit der HJ im Petershof informieren und aus damals verbrannten Texten lesen. Wir erinnern damit an antiautoritäre und antifaschistische Strömungen in Kultur\, Kunst und Pädagogik aus dieser Zeit\, in deren Sinne der Petershof mit neuem Leben gefüllt werden soll.
URL:http://el-de-haus-verein.de/event/texte-aus-der-asche/
LOCATION:Petershof\, Lövenicher Str. 11\, Köln-Müngersdorf\, 50933
CATEGORIES:Lesung
ORGANIZER;CN="Machbarschaft Petershof e.V.":MAILTO:info@petershof.org
END:VEVENT
BEGIN:VEVENT
DTSTART;TZID=Europe/Berlin:20230514T180000
DTEND;TZID=Europe/Berlin:20230514T190000
DTSTAMP:20260419T220233
CREATED:20230326T155907Z
LAST-MODIFIED:20230326T160244Z
UID:155-1684087200-1684090800@el-de-haus-verein.de
SUMMARY:Literaturgottesdienst zum Gedenken an die Bücherverbrennung
DESCRIPTION:Literatur und Musik verfemter Autor*innen und Musiker*innen\nCitykirchenpfarrer Markus Herzberg und KMD Johannes Quack gestalten im Rahmen der Reihe Literaturgottesdienste an der Antoniterkirche ein Programm mit ausgewählten Texten und Musikstücken verfemter Autor*innen und Musiker*innen
URL:http://el-de-haus-verein.de/event/literaturgottesdienst-zum-gedenken-an-die-buecherverbrennung/
LOCATION:Antonius Saal Citykirchenzentrum im Antoniter Quartier\, Antoniterstraße 14-16\, Köln\, 50667
ORGANIZER;CN="AntoniterCitykirche":MAILTO:markus.herzberg@antonitercitykirche.de
END:VEVENT
END:VCALENDAR